BEGIN:VCALENDAR
VERSION:2.0
PRODID:-//TYPO3/NONSGML News system (news)//EN
BEGIN:VEVENT
UID:news-71290@trainingszentrum-menschenrechte.uni-graz.at
DTSTAMP:20210128T155445Z
DTSTART:20210201T110000Z
DTEND:20210201T143000Z
SUMMARY:Young Researchers&#039; Day - Human Rights Go Local: What Works

DESCRIPTION:1 February 2021, 12:00-15:30, online
END:VEVENT
END:VCALENDAR
