BEGIN:VCALENDAR
VERSION:2.0
PRODID:-//TYPO3/NONSGML News system (news)//EN
BEGIN:VEVENT
UID:news-98263@trainingszentrum-menschenrechte.uni-graz.at
DTSTAMP:20221209T072727Z
DTSTART:20221215T163000Z
DTEND:20221215T173000Z
SUMMARY:Book Launch: The Human Rights-Based Approach to STEM Education
END:VEVENT
END:VCALENDAR
