BEGIN:VCALENDAR
VERSION:2.0
PRODID:-//TYPO3/NONSGML News system (news)//EN
BEGIN:VEVENT
UID:news-126896@trainingszentrum-menschenrechte.uni-graz.at
DTSTAMP:20250616T133843Z
DTSTART:20250617T140000Z
DTEND:20250617T140000Z
SUMMARY:Talk: Defending Civic Space in Georgia and Hungary
END:VEVENT
END:VCALENDAR
