BEGIN:VCALENDAR
VERSION:2.0
PRODID:-//TYPO3/NONSGML News system (news)//EN
BEGIN:VEVENT
UID:news-97166@trainingszentrum-menschenrechte.uni-graz.at
DTSTAMP:20221122T132328Z
DTSTART:20221123T160000Z
DTEND:20221123T180000Z
SUMMARY:Spotlight Ukraine: The Role of Journalists in Exposing Human Rights Violations

DESCRIPTION:With Olha Bozhko (Journalist, filmmaker and human rights activist in Ukraine)
Moderation: Lisa Heschl (UNI-ETC)
END:VEVENT
END:VCALENDAR
