BEGIN:VCALENDAR
VERSION:2.0
PRODID:-//TYPO3/NONSGML News system (news)//EN
BEGIN:VEVENT
UID:news-125511@trainingszentrum-menschenrechte.uni-graz.at
DTSTAMP:20250428T130833Z
DTSTART:20250507T150000Z
DTEND:20250507T150000Z
SUMMARY:Refugee Girls: Film screening and discussion

DESCRIPTION:The UNI-ETC organises the screening of the film &quot;Refugee Girls&quot; and a following discussion as part of an Arqus ad hoc bottom-up initiative dealing with the integration of refugees at Arqus universities.
END:VEVENT
END:VCALENDAR
