BEGIN:VCALENDAR
VERSION:2.0
PRODID:-//TYPO3/NONSGML News system (news)//EN
BEGIN:VEVENT
UID:news-82852@trainingszentrum-menschenrechte.uni-graz.at
DTSTAMP:20220120T141112Z
DTSTART:20220204T123000Z
DTEND:20220204T140000Z
SUMMARY:Let’s talk about Human Rights Careers

DESCRIPTION:The International Centre for the Promotion of Human Rights at the Local and Regional Levels under the auspices of UNESCO and the UNESCO Chair in Human Rights and Human Security invite you cordially to the next generation networking event &quot;Let’s talk about Human Rights Careers - Making the hobby of the few the responsibility of the many&quot;. 
END:VEVENT
END:VCALENDAR
