BEGIN:VCALENDAR
VERSION:2.0
PRODID:-//TYPO3/NONSGML News system (news)//EN
BEGIN:VEVENT
UID:news-113935@trainingszentrum-menschenrechte.uni-graz.at
DTSTAMP:20240424T115742Z
DTSTART:20240513T153000Z
DTEND:20240513T153000Z
SUMMARY:Let&#039;s talk about Haiti! Restoring peace and human rights in a collapsing state

DESCRIPTION:Talk with William O&#039;Neill, the UN expert on human rights in Haiti
END:VEVENT
END:VCALENDAR
