BEGIN:VCALENDAR
VERSION:2.0
PRODID:-//TYPO3/NONSGML News system (news)//EN
BEGIN:VEVENT
UID:news-114130@trainingszentrum-menschenrechte.uni-graz.at
DTSTAMP:20240506T081019Z
DTSTART:20240515T160000Z
DTEND:20240515T173000Z
SUMMARY:Lebanon - In a State of Unrest

DESCRIPTION:Discussion concluding the photo exhibition of the same name, taking place from 29 April to 14 May in the foyer of the Faculty of Law
END:VEVENT
END:VCALENDAR
