BEGIN:VCALENDAR
VERSION:2.0
PRODID:-//TYPO3/NONSGML News system (news)//EN
BEGIN:VEVENT
UID:news-119996@trainingszentrum-menschenrechte.uni-graz.at
DTSTAMP:20241029T084315Z
DTSTART:20241113T160000Z
DTEND:20241113T173000Z
SUMMARY:KI an der Grenze - digitale Technologien im Kontext Flucht und Migration
END:VEVENT
END:VCALENDAR
