BEGIN:VCALENDAR
VERSION:2.0
PRODID:-//TYPO3/NONSGML News system (news)//EN
BEGIN:VEVENT
UID:news-112332@trainingszentrum-menschenrechte.uni-graz.at
DTSTAMP:20240313T092855Z
DTSTART:20240322T123000Z
DTEND:20240322T163000Z
SUMMARY:Invitation: Symposium on Fact-Finding on and Documentation of Human Rights Violations

DESCRIPTION:At the occasion of awarding the Human Rights Prize of the University of Graz to the International Accountability Platform for Belarus (IAPB)
END:VEVENT
END:VCALENDAR
