BEGIN:VCALENDAR
VERSION:2.0
PRODID:-//TYPO3/NONSGML News system (news)//EN
BEGIN:VEVENT
UID:news-120895@trainingszentrum-menschenrechte.uni-graz.at
DTSTAMP:20241125T085448Z
DTSTART:20241202T150000Z
DTEND:20241202T173000Z
SUMMARY:Human Rights Cafè at University of Graz

DESCRIPTION:University of Graz participates in the organization of a Human Rights Cafè - register now!
END:VEVENT
END:VCALENDAR
