BEGIN:VCALENDAR
VERSION:2.0
PRODID:-//TYPO3/NONSGML News system (news)//EN
BEGIN:VEVENT
UID:news-108854@trainingszentrum-menschenrechte.uni-graz.at
DTSTAMP:20231127T082427Z
DTSTART:20231211T160000Z
DTEND:20231211T180000Z
SUMMARY:How far have we come?  The progressive realization of socio-economic human rights
END:VEVENT
END:VCALENDAR
