BEGIN:VCALENDAR
VERSION:2.0
PRODID:-//TYPO3/NONSGML News system (news)//EN
BEGIN:VEVENT
UID:news-88283@trainingszentrum-menschenrechte.uni-graz.at
DTSTAMP:20220530T112006Z
DTSTART:20220608T160000Z
DTEND:20220608T170000Z
SUMMARY:Grenzen Grenzen setzen: Strategische Prozessführung und der Zugang zu Europäischen Gerichten am Beispiel der europarechtswidrigen Binnengrenzkontrollen Österreichs

DESCRIPTION:Das UNI-ETC und das Institut für Europarecht laden Sie herzlich zu der Veranstaltung &quot;Grenzen Grenzen setzen:  Strategische Prozessführung und der Zugang zu Europäischen Gerichten am Beispiel der europarechtswidrigen Binnengrenzkontrollen Österreichs&quot; mit Dr. Stefan Salomon ein. 
END:VEVENT
END:VCALENDAR
