BEGIN:VCALENDAR
VERSION:2.0
PRODID:-//TYPO3/NONSGML News system (news)//EN
BEGIN:VEVENT
UID:news-113864@trainingszentrum-menschenrechte.uni-graz.at
DTSTAMP:20240423T121626Z
DTSTART:20240428T220300Z
DTEND:20240514T140300Z
SUMMARY:Fotoausstellung: Lebanon - in a state of unrest

DESCRIPTION:LEBANON – IN A STATE OF UNREST ist eine Kooperation eines Teams zwischen Wien und Beirut. Die Ausstellung besteht aus fotodokumentarischen Fragmenten, die Zeugnis eines vielfach zersplitterten Landes ablegen: Ein Ort zwischen Aufbruch und Krise, Veränderung und Stagnation, Kreativität und Schmerz. 

von 29.4. bis 14.5. im Resowi-Foyer, Bauteil C
END:VEVENT
END:VCALENDAR
