BEGIN:VCALENDAR
VERSION:2.0
PRODID:-//TYPO3/NONSGML News system (news)//EN
BEGIN:VEVENT
UID:news-65814@trainingszentrum-menschenrechte.uni-graz.at
DTSTAMP:20200902T071311Z
DTSTART:20201001T112800Z
DTEND:20201001T112800Z
SUMMARY:COVID-19-bedingt derzeit keine Veranstaltungen

DESCRIPTION:Currently no events due to COVID-19
END:VEVENT
END:VCALENDAR
