BEGIN:VCALENDAR
VERSION:2.0
PRODID:-//TYPO3/NONSGML News system (news)//EN
BEGIN:VEVENT
UID:news-71287@trainingszentrum-menschenrechte.uni-graz.at
DTSTAMP:20210128T155439Z
DTSTART:20210209T150000Z
DTEND:20210209T170000Z
SUMMARY:Conference - Human Rights Go Local: What Works

DESCRIPTION:Conference on Human Rights at the Local and Regional Levels 2021
9 February 2021, Graz, Austria, 16:00 – 18:00 CET
END:VEVENT
END:VCALENDAR
