BEGIN:VCALENDAR
VERSION:2.0
PRODID:-//TYPO3/NONSGML News system (news)//EN
BEGIN:VEVENT
UID:news-82857@trainingszentrum-menschenrechte.uni-graz.at
DTSTAMP:20220120T141902Z
DTSTART:20220208T110000Z
DTEND:20220208T130000Z
SUMMARY:Conference - Human Rights Go Local: What Works

DESCRIPTION:International Conference on Human Rights at the Local and Regional Levels 2022: 
“From Intentions to Commitments: Towards the Effective and Sustainable Implementation of Human Rights” 
8 February 2022
12:00 – 14:00 CET (GMT+1)
END:VEVENT
END:VCALENDAR
