BEGIN:VCALENDAR
VERSION:2.0
PRODID:-//TYPO3/NONSGML News system (news)//EN
BEGIN:VEVENT
UID:news-80421@trainingszentrum-menschenrechte.uni-graz.at
DTSTAMP:20211129T130359Z
DTSTART:20211206T110000Z
DTEND:20211206T120000Z
SUMMARY:70 Jahre Genfer Flüchtlingskonvention - Mittagsgespräch mit Christoph Pinter und Wolfgang Benedek

DESCRIPTION:6. Dezember 2021, 12:00-13:00

END:VEVENT
END:VCALENDAR
