BEGIN:VCALENDAR
VERSION:2.0
PRODID:-//TYPO3/NONSGML News system (news)//EN
BEGIN:VEVENT
UID:news-80471@trainingszentrum-menschenrechte.uni-graz.at
DTSTAMP:20211129T132047Z
DTSTART:20211206T170000Z
DTEND:20211206T190000Z
SUMMARY:Syrian Experiences of Displacement and Precarious Living in Turkey

DESCRIPTION:HuK-Forum 6.12.2021 at 18.00 (Online) gestaltet vom Cluster Menschenrechte, Demokratie, Diversität und Gender (MDDG)

Guest Lecture by Prof. Suzan Ilcan, University of Waterloo, Canada
END:VEVENT
END:VCALENDAR
