BEGIN:VCALENDAR
VERSION:2.0
PRODID:-//TYPO3/NONSGML News system (news)//EN
BEGIN:VEVENT
UID:news-68800@trainingszentrum-menschenrechte.uni-graz.at
DTSTAMP:20201117T121607Z
DTSTART:20201202T160000Z
DTEND:20201202T173000Z
SUMMARY:Online-Buchpräsentation des European Yearbook on Human Rights 2020

DESCRIPTION:Mit Vortrag von Linos-Alexandre Sicilianos, ehem. Präsident des Europäischen Gerichtshof für Menschenrechte!
END:VEVENT
END:VCALENDAR
