BEGIN:VCALENDAR
VERSION:2.0
PRODID:-//TYPO3/NONSGML News system (news)//EN
BEGIN:VEVENT
UID:news-80718@trainingszentrum-menschenrechte.uni-graz.at
DTSTAMP:20211209T083138Z
DTSTART:20211213T163000Z
DTEND:20211213T183000Z
SUMMARY:Book Launch of the  European Yearbook on Human Rights 2021

DESCRIPTION:The UNI-ETC invites you cordially to the Book Launch of the European Yearbook on Human Rights 2021, Special Edition “Human Rights in Times of a Pandemic”. 
END:VEVENT
END:VCALENDAR
