BEGIN:VCALENDAR
VERSION:2.0
PRODID:-//TYPO3/NONSGML News system (news)//EN
BEGIN:VEVENT
UID:news-112587@trainingszentrum-menschenrechte.uni-graz.at
DTSTAMP:20240313T094828Z
DTSTART:20240322T100000Z
DTEND:20240322T100000Z
SUMMARY:Awarding the Human Rights Prize of the University of Graz

DESCRIPTION:The University of Graz awards its Human Rights Prize to the International Accountability Platform for Belarus (IAPB)
END:VEVENT
END:VCALENDAR
