BEGIN:VCALENDAR
VERSION:2.0
PRODID:-//TYPO3/NONSGML News system (news)//EN
BEGIN:VEVENT
UID:news-121272@trainingszentrum-menschenrechte.uni-graz.at
DTSTAMP:20241203T111821Z
DTSTART:20241211T160000Z
DTEND:20241211T160000Z
SUMMARY:25 Jahre Europäisches Trainings- und Forschungszentrum für Menschenrechte und Demokratie

DESCRIPTION:Das Europäische Trainings- und Forschungszentrum für Menschenrechte und Demokratie (ETC) feiert 25 Jahre Bestehen und lädt zu einem Get Together ein.
END:VEVENT
END:VCALENDAR
